BEGIN:VCALENDAR
VERSION:2.0
PRODID:SchoolNow
CALSCALE:GREGORIAN
BEGIN:VEVENT
UID:4bda33fa-d244-11ed-ac0e-0aa969547949
DTSTAMP:20230403T172349Z
SUMMARY:Spring Fest
LOCATION:Reserve
URL;VALUE=URI:https://www.rpcc.edu/calendar/3974721/spring-fest
DTSTART:20230420T153000Z
DTEND:20230420T163000Z
END:VEVENT
END:VCALENDAR
