BEGIN:VCALENDAR
VERSION:2.0
PRODID:SchoolNow
CALSCALE:GREGORIAN
BEGIN:VEVENT
UID:829c39e8-c4e7-11ed-83ef-0e0129b851c7
DTSTAMP:20230317T171652Z
SUMMARY:Chancellor's Inauguration
LOCATION:Gonzales
URL;VALUE=URI:https://www.rpcc.edu/calendar/3882735/chancellors-inaguration
DTSTART:20230330T200000Z
DTEND:20230330T220000Z
END:VEVENT
END:VCALENDAR
