BEGIN:VCALENDAR
VERSION:2.0
PRODID:SchoolNow
CALSCALE:GREGORIAN
BEGIN:VEVENT
UID:70b4dace-b2d0-11ed-bdb7-0eb182f34a77
DTSTAMP:20230222T164623Z
SUMMARY:St. Charles Job Expo
LOCATION:St. Charles Campus
URL;VALUE=URI:https://www.rpcc.edu/calendar/3767144/st-charles-job-expo
DTSTART:20230420T190000Z
DTEND:20230420T220000Z
END:VEVENT
END:VCALENDAR
