BEGIN:VCALENDAR
VERSION:2.0
PRODID:SchoolNow
CALSCALE:GREGORIAN
BEGIN:VEVENT
UID:4e6e3b16-a305-11ed-aa5b-0e4d267229df
DTSTAMP:20230202T142430Z
SUMMARY:SGA Meeting
LOCATION:Gonzales (BASF Room)
URL;VALUE=URI:https://www.rpcc.edu/calendar/3711060/sga-meeting
DTSTART:20230203T183000Z
DTEND:20230203T193000Z
END:VEVENT
END:VCALENDAR
