BEGIN:VCALENDAR
VERSION:2.0
PRODID:SchoolNow
CALSCALE:GREGORIAN
BEGIN:VEVENT
UID:3c2bb906-a305-11ed-bf29-0e4d267229df
DTSTAMP:20230202T142359Z
SUMMARY:Black History Month Presentation
LOCATION:Reserve Campus
URL;VALUE=URI:https://www.rpcc.edu/calendar/3711059/black-history-month-pre
 sentation
DTSTART:20230215T170000Z
DTEND:20230215T180000Z
END:VEVENT
END:VCALENDAR
