BEGIN:VCALENDAR
VERSION:2.0
PRODID:SchoolNow
CALSCALE:GREGORIAN
BEGIN:VEVENT
UID:510f308c-9bfd-11ed-9c13-02f9c3dc8d05
DTSTAMP:20230317T171445Z
SUMMARY:Community College Week Begins!
URL;VALUE=URI:https://www.rpcc.edu/calendar/3686805/community-college-week-
 begins
DTSTART:20230327T130000Z
DTEND:20230331T210000Z
END:VEVENT
END:VCALENDAR
