BEGIN:VCALENDAR
VERSION:2.0
PRODID:SchoolNow
CALSCALE:GREGORIAN
BEGIN:VEVENT
UID:1cdd224c-9bfd-11ed-93af-02f9c3dc8d05
DTSTAMP:20230124T154129Z
SUMMARY:Grad Fest (Gonzales Campus)
LOCATION:Gonzales Campus
URL;VALUE=URI:https://www.rpcc.edu/calendar/3686804/grad-fest-gonzales
DTSTART:20230309T220000Z
DTEND:20230310T010000Z
END:VEVENT
END:VCALENDAR
