BEGIN:VCALENDAR
VERSION:2.0
PRODID:SchoolNow
CALSCALE:GREGORIAN
BEGIN:VEVENT
UID:ff934248-9bfc-11ed-a95f-02f9c3dc8d05
DTSTAMP:20230124T153724Z
SUMMARY:Grad Fest (Reserve Campus)
LOCATION:Reserve Campus
URL;VALUE=URI:https://www.rpcc.edu/calendar/3686803/grad-fest-reserve-campu
 s
DTSTART:20230309T170000Z
DTEND:20230309T190000Z
END:VEVENT
END:VCALENDAR
