BEGIN:VCALENDAR
VERSION:2.0
PRODID:SchoolNow
CALSCALE:GREGORIAN
BEGIN:VEVENT
UID:24e239a4-968b-11ed-a38a-0a3fe432666d
DTSTAMP:20230117T171948Z
SUMMARY:Happy Valentine's Day!
URL;VALUE=URI:https://www.rpcc.edu/calendar/3669144/happy-valentines-day
DTSTART;VALUE=DATE:20230214
DTEND;VALUE=DATE:20230215
END:VEVENT
END:VCALENDAR
