BEGIN:VCALENDAR
VERSION:2.0
PRODID:SchoolNow
CALSCALE:GREGORIAN
BEGIN:VEVENT
UID:0f44ee20-968b-11ed-8d09-0aced9d24ce9
DTSTAMP:20230117T171911Z
SUMMARY:Matters of Heart
URL;VALUE=URI:https://www.rpcc.edu/calendar/3669143/matters-of-heart
DTSTART:20230201T171800Z
DTEND:20230201T181800Z
END:VEVENT
END:VCALENDAR
