BEGIN:VCALENDAR
VERSION:2.0
PRODID:SchoolNow
CALSCALE:GREGORIAN
BEGIN:VEVENT
UID:ffbfd12c-968a-11ed-bf96-0eab88e5a68f
DTSTAMP:20230117T171845Z
SUMMARY:Stress Management Presentation
LOCATION:Gonzales (RM # 134)
URL;VALUE=URI:https://www.rpcc.edu/calendar/3669142/stress-management-prese
 ntation
DTSTART:20230215T170000Z
DTEND:20230215T180000Z
END:VEVENT
END:VCALENDAR
