BEGIN:VCALENDAR
VERSION:2.0
PRODID:SchoolNow
CALSCALE:GREGORIAN
BEGIN:VEVENT
UID:6846ebf8-9042-11ed-877c-0ad1af74610d
DTSTAMP:20230109T172401Z
SUMMARY:Paint the Parish Purple (Wear Purple)
URL;VALUE=URI:https://www.rpcc.edu/calendar/3661062/paint-the-parish-purple
 -wear-purple
DTSTART;VALUE=DATE:20230126
DTEND;VALUE=DATE:20230127
END:VEVENT
END:VCALENDAR
