BEGIN:VCALENDAR
VERSION:2.0
PRODID:SchoolNow
CALSCALE:GREGORIAN
BEGIN:VEVENT
UID:37b387e4-9042-11ed-b89b-0ad1af74610d
DTSTAMP:20230109T172239Z
SUMMARY:Relay for Life
LOCATION:Gonzales Campus
URL;VALUE=URI:https://www.rpcc.edu/calendar/3660973/relay-for-life
DTSTART:20230318T220000Z
DTEND:20230319T030000Z
END:VEVENT
END:VCALENDAR
