BEGIN:VCALENDAR
VERSION:2.0
PRODID:SchoolNow
CALSCALE:GREGORIAN
BEGIN:VEVENT
UID:2ff60f66-77df-11ed-bb7f-02e4d8466511
DTSTAMP:20221209T163318Z
SUMMARY:MA Pinning Ceremony
LOCATION:New Wine Church LaPlace
URL;VALUE=URI:https://www.rpcc.edu/calendar/3639387/ma-pinning-ceremony
DTSTART:20221210T220000Z
DTEND:20221211T000000Z
END:VEVENT
END:VCALENDAR
