BEGIN:VCALENDAR
VERSION:2.0
PRODID:SchoolNow
CALSCALE:GREGORIAN
BEGIN:VEVENT
UID:0028f8e8-77df-11ed-968b-0e56431f2bd3
DTSTAMP:20221209T163158Z
SUMMARY:Happy New Year!
URL;VALUE=URI:https://www.rpcc.edu/calendar/3639342/happy-new-year
DTSTART;VALUE=DATE:20230101
DTEND;VALUE=DATE:20230102
END:VEVENT
END:VCALENDAR
