BEGIN:VCALENDAR
VERSION:2.0
PRODID:SchoolNow
CALSCALE:GREGORIAN
BEGIN:VEVENT
UID:eaaf2546-77de-11ed-bf40-0e56431f2bd3
DTSTAMP:20221209T163122Z
SUMMARY:Merry Christmas
URL;VALUE=URI:https://www.rpcc.edu/calendar/3639340/merry-christmas
DTSTART;VALUE=DATE:20221225
DTEND;VALUE=DATE:20221226
END:VEVENT
END:VCALENDAR
