BEGIN:VCALENDAR
VERSION:2.0
PRODID:SchoolNow
CALSCALE:GREGORIAN
BEGIN:VEVENT
UID:58356b16-74ba-11ed-8099-0af760e56c45
DTSTAMP:20221205T163201Z
SUMMARY:PET Plant Lunch and Learn
LOCATION:T-119
URL;VALUE=URI:https://www.rpcc.edu/calendar/3635019/pet-plant-lunch-and-lea
 rn
DTSTART:20221207T170000Z
DTEND:20221207T180000Z
END:VEVENT
END:VCALENDAR
