BEGIN:VCALENDAR
VERSION:2.0
PRODID:SchoolNow
CALSCALE:GREGORIAN
BEGIN:VEVENT
UID:193dd930-6686-11ed-b3a6-0e61d7b9f249
DTSTAMP:20221117T144245Z
SUMMARY:Spring Semester Begins!
URL;VALUE=URI:https://www.rpcc.edu/calendar/3614422/spring-semester-begins
DTSTART;VALUE=DATE:20230117
DTEND;VALUE=DATE:20230118
END:VEVENT
END:VCALENDAR
