BEGIN:VCALENDAR
VERSION:2.0
PRODID:SchoolNow
CALSCALE:GREGORIAN
BEGIN:VEVENT
UID:bc094cf6-643a-11ed-98bf-0a431f340357
DTSTAMP:20221114T163814Z
SUMMARY:Job Fair
LOCATION:Westside Campus
URL;VALUE=URI:https://www.rpcc.edu/calendar/3609090/job-fair
DTSTART:20221208T160000Z
DTEND:20221208T200000Z
END:VEVENT
END:VCALENDAR
