BEGIN:VCALENDAR
VERSION:2.0
PRODID:SchoolNow
CALSCALE:GREGORIAN
BEGIN:VEVENT
UID:bad7f826-5abe-11ed-87d5-02581bb98b75
DTSTAMP:20221102T145754Z
SUMMARY:Chancellor Forum (Meet the finalist)
LOCATION:Gonzales Campus
URL;VALUE=URI:https://www.rpcc.edu/calendar/3582034/chancellor-forum-meet-t
 he-finalist
DTSTART:20221107T180000Z
DTEND:20221107T214500Z
END:VEVENT
END:VCALENDAR
