BEGIN:VCALENDAR
VERSION:2.0
PRODID:SchoolNow
CALSCALE:GREGORIAN
BEGIN:VEVENT
UID:5eb0aaea-5954-11ed-90b5-022d654118e7
DTSTAMP:20221031T194401Z
SUMMARY:Winter Essentials Drive Ends
URL;VALUE=URI:https://www.rpcc.edu/calendar/3576274/winter-essentials-drive
 -ends
DTSTART;VALUE=DATE:20221118
DTEND;VALUE=DATE:20221119
END:VEVENT
END:VCALENDAR
