BEGIN:VCALENDAR
VERSION:2.0
PRODID:SchoolNow
CALSCALE:GREGORIAN
BEGIN:VEVENT
UID:32c02d66-5954-11ed-870b-022d654118e7
DTSTAMP:20221031T194248Z
SUMMARY:SGA Fall Fest
LOCATION:Gonzales Campus
URL;VALUE=URI:https://www.rpcc.edu/calendar/3576273/sga-fall-fest
DTSTART:20221110T170000Z
DTEND:20221110T200000Z
END:VEVENT
END:VCALENDAR
