BEGIN:VCALENDAR
VERSION:2.0
PRODID:SchoolNow
CALSCALE:GREGORIAN
BEGIN:VEVENT
UID:dbeb3a9e-5953-11ed-8dae-0a0c4a410a7f
DTSTAMP:20221031T194022Z
SUMMARY:Gonzales Transfer Fair
LOCATION:Gonzales Campus
URL;VALUE=URI:https://www.rpcc.edu/calendar/3576271/gonzales-transfer-fair
DTSTART:20221102T150000Z
DTEND:20221102T170000Z
END:VEVENT
END:VCALENDAR
