BEGIN:VCALENDAR
VERSION:2.0
PRODID:SchoolNow
CALSCALE:GREGORIAN
BEGIN:VEVENT
UID:c854417e-5953-11ed-849b-0a0c4a410a7f
DTSTAMP:20221031T193949Z
SUMMARY:Reserve Transfer Fair
LOCATION:Reserve Campus
URL;VALUE=URI:https://www.rpcc.edu/calendar/3576270/reserve-transfer-fair
DTSTART:20221101T150000Z
DTEND:20221101T170000Z
END:VEVENT
END:VCALENDAR
