BEGIN:VCALENDAR
VERSION:2.0
PRODID:SchoolNow
CALSCALE:GREGORIAN
BEGIN:VEVENT
UID:89eeaaaa-4fbc-11ed-9854-0203222e57f9
DTSTAMP:20221019T144430Z
SUMMARY:St. Charles Food Drive Collection Ends
LOCATION:St. Charles Campus
URL;VALUE=URI:https://www.rpcc.edu/calendar/3539956/st-charles-food-drive-c
 ollection-ends
DTSTART;VALUE=DATE:20221111
DTEND;VALUE=DATE:20221112
END:VEVENT
END:VCALENDAR
