BEGIN:VCALENDAR
VERSION:2.0
PRODID:SchoolNow
CALSCALE:GREGORIAN
BEGIN:VEVENT
UID:21c1c296-4b34-11ed-9143-0202f6af942d
DTSTAMP:20221013T201759Z
SUMMARY:Honor our Veteran's Event
LOCATION:Reserve Campus
URL;VALUE=URI:https://www.rpcc.edu/calendar/3517527/honor-our-veterans-even
 t
DTSTART:20221107T170000Z
DTEND:20221107T180000Z
END:VEVENT
END:VCALENDAR
