BEGIN:VCALENDAR
VERSION:2.0
PRODID:SchoolNow
CALSCALE:GREGORIAN
BEGIN:VEVENT
UID:cd9c50da-4a4f-11ed-8d79-0aeb5ec1b5ab
DTSTAMP:20221012T170333Z
SUMMARY:Breast Cancer Awareness Event
LOCATION:RPCC Gonzales Library
URL;VALUE=URI:https://www.rpcc.edu/calendar/3512853/breast-cancer-awareness
 -event
DTSTART:20221026T160000Z
DTEND:20221026T170000Z
END:VEVENT
END:VCALENDAR
