BEGIN:VCALENDAR
VERSION:2.0
PRODID:SchoolNow
CALSCALE:GREGORIAN
BEGIN:VEVENT
UID:497a187c-434d-11ed-95df-0e8f5708cf81
DTSTAMP:20221003T185754Z
SUMMARY:Second 8 weeks begin!
URL;VALUE=URI:https://www.rpcc.edu/calendar/3476810/second-8-weeks-begin
DTSTART;VALUE=DATE:20221017
DTEND;VALUE=DATE:20221019
END:VEVENT
END:VCALENDAR
