BEGIN:VCALENDAR
VERSION:2.0
PRODID:SchoolNow
CALSCALE:GREGORIAN
BEGIN:VEVENT
UID:48c5700e-24ba-11ed-bae2-0ae83b68a427
DTSTAMP:20220825T211002Z
SUMMARY:14th Annual Energize Your Destiny event
LOCATION:Reserve Campus\, 181 Regala Park Rd\, Reserve\, La 70084
URL;VALUE=URI:https://www.rpcc.edu/calendar/3305425/14th-annual-energize-yo
 ur-destiny-event
DTSTART:20220916T130000Z
DTEND:20220916T180000Z
END:VEVENT
END:VCALENDAR
