BEGIN:VCALENDAR
VERSION:2.0
PRODID:SchoolNow
CALSCALE:GREGORIAN
BEGIN:VEVENT
UID:6412da18-22f8-11ed-bf84-0ebda8512755
DTSTAMP:20220823T152934Z
SUMMARY:Walk-in Wednesday
LOCATION:Gonzales Campus
URL;VALUE=URI:https://www.rpcc.edu/calendar/3297928/walk-in-wednesday
DTSTART:20221116T162800Z
DTEND:20221116T172800Z
END:VEVENT
END:VCALENDAR
