BEGIN:VCALENDAR
VERSION:2.0
PRODID:SchoolNow
CALSCALE:GREGORIAN
BEGIN:VEVENT
UID:42d59868-22f8-11ed-a0b9-0ebda8512755
DTSTAMP:20220823T152838Z
SUMMARY:Walk-in Wednesday
LOCATION:Gonzales Campus
URL;VALUE=URI:https://www.rpcc.edu/calendar/3297927/walk-in-wednesday
DTSTART:20221027T152700Z
DTEND:20221027T162700Z
END:VEVENT
END:VCALENDAR
