BEGIN:VCALENDAR
VERSION:2.0
PRODID:SchoolNow
CALSCALE:GREGORIAN
BEGIN:VEVENT
UID:e279253e-22f7-11ed-8994-0eb767afa89b
DTSTAMP:20220823T152557Z
SUMMARY:Job Fair (St. Charles Campus)
LOCATION:St. Charles Campus
URL;VALUE=URI:https://www.rpcc.edu/calendar/3297926/job-fair-st-charles-cam
 pus
DTSTART:20220915T150000Z
DTEND:20220915T190000Z
END:VEVENT
END:VCALENDAR
