BEGIN:VCALENDAR
VERSION:2.0
PRODID:SchoolNow
CALSCALE:GREGORIAN
BEGIN:VEVENT
UID:742a2f1a-2220-11ed-a8d9-0a844e016ffd
DTSTAMP:20220822T134350Z
SUMMARY:Welcome Back Lunch!
LOCATION:Reserve Campus
URL;VALUE=URI:https://www.rpcc.edu/calendar/3294801/welcome-back-lunch
DTSTART:20220825T160000Z
DTEND:20220825T180000Z
END:VEVENT
END:VCALENDAR
