BEGIN:VCALENDAR
VERSION:2.0
PRODID:SchoolNow
CALSCALE:GREGORIAN
BEGIN:VEVENT
UID:615bb598-2220-11ed-8e26-0a844e016ffd
DTSTAMP:20220822T134318Z
SUMMARY:Welcome Back Lunch!
LOCATION:Reserve Campus
URL;VALUE=URI:https://www.rpcc.edu/calendar/3294800/welcome-back-lunch
DTSTART:20220824T160000Z
DTEND:20220824T180000Z
END:VEVENT
END:VCALENDAR
