BEGIN:VCALENDAR
VERSION:2.0
PRODID:SchoolNow
CALSCALE:GREGORIAN
BEGIN:VEVENT
UID:4ba47cf8-2220-11ed-ad7e-0a844e016ffd
DTSTAMP:20220822T134242Z
SUMMARY:Welcome Back Breakfast!
LOCATION:Reserve Campus
URL;VALUE=URI:https://www.rpcc.edu/calendar/3294798/welcome-back-breakfast
DTSTART:20220823T130000Z
DTEND:20220823T150000Z
END:VEVENT
END:VCALENDAR
