BEGIN:VCALENDAR
VERSION:2.0
PRODID:SchoolNow
CALSCALE:GREGORIAN
BEGIN:VEVENT
UID:33e411e6-2220-11ed-8e20-0a844e016ffd
DTSTAMP:20220822T134202Z
SUMMARY:Welcome Back Breakfast!
LOCATION:Reserve Campus
URL;VALUE=URI:https://www.rpcc.edu/calendar/3294797/welcome-back-breakfast
DTSTART:20220822T130000Z
DTEND:20220822T150000Z
END:VEVENT
END:VCALENDAR
