BEGIN:VCALENDAR
VERSION:2.0
PRODID:SchoolNow
CALSCALE:GREGORIAN
BEGIN:VEVENT
UID:cb9eb834-221f-11ed-8501-0a4fc92c2d53
DTSTAMP:20220822T133907Z
SUMMARY:Popcorn with Student Services
LOCATION:Gonzales Campus
URL;VALUE=URI:https://www.rpcc.edu/calendar/3294796/popcorn-with-student-se
 rvices
DTSTART:20220825T170000Z
DTEND:20220825T173000Z
END:VEVENT
END:VCALENDAR
