BEGIN:VCALENDAR
VERSION:2.0
PRODID:SchoolNow
CALSCALE:GREGORIAN
BEGIN:VEVENT
UID:b40a24b0-221f-11ed-8dfe-0a4fc92c2d53
DTSTAMP:20220822T133827Z
SUMMARY:Grab and Go Breakfast
LOCATION:Gonzales Campus
URL;VALUE=URI:https://www.rpcc.edu/calendar/3294795/grab-and-go-breakfast
DTSTART:20220825T130000Z
DTEND:20220825T150000Z
END:VEVENT
END:VCALENDAR
