BEGIN:VCALENDAR
VERSION:2.0
PRODID:SchoolNow
CALSCALE:GREGORIAN
BEGIN:VEVENT
UID:98f2914e-221f-11ed-af37-0a4fc92c2d53
DTSTAMP:20220822T133946Z
SUMMARY:Popcorn with Student Services
LOCATION:Gonzales Campus
URL;VALUE=URI:https://www.rpcc.edu/calendar/3294794/popcorn-with-student-se
 rvices
DTSTART:20220824T170000Z
DTEND:20220824T173000Z
END:VEVENT
END:VCALENDAR
