BEGIN:VCALENDAR
VERSION:2.0
PRODID:SchoolNow
CALSCALE:GREGORIAN
BEGIN:VEVENT
UID:75bcd194-221f-11ed-829e-0a4fc92c2d53
DTSTAMP:20220822T133643Z
SUMMARY:Student Organization Day 2!
LOCATION:Gonzales Campus
URL;VALUE=URI:https://www.rpcc.edu/calendar/3294793/student-organization-da
 y-2
DTSTART:20220824T140000Z
DTEND:20220824T170000Z
END:VEVENT
END:VCALENDAR
