BEGIN:VCALENDAR
VERSION:2.0
PRODID:SchoolNow
CALSCALE:GREGORIAN
BEGIN:VEVENT
UID:4c9a5a20-221f-11ed-b95d-0e0e78b9b725
DTSTAMP:20220822T133534Z
SUMMARY:Cookies on the go!
LOCATION:Gonzales Campus
URL;VALUE=URI:https://www.rpcc.edu/calendar/3294792/cookies-on-the-go
DTSTART:20220823T170000Z
DTEND:20220823T190000Z
END:VEVENT
END:VCALENDAR
