BEGIN:VCALENDAR
VERSION:2.0
PRODID:SchoolNow
CALSCALE:GREGORIAN
BEGIN:VEVENT
UID:311db0a8-221f-11ed-9125-0e0e78b9b725
DTSTAMP:20220822T133448Z
SUMMARY:Student Organization Day!
LOCATION:Gonzales Campus
URL;VALUE=URI:https://www.rpcc.edu/calendar/3294791/student-organization-da
 y
DTSTART:20220823T140000Z
DTEND:20220823T170000Z
END:VEVENT
END:VCALENDAR
