BEGIN:VCALENDAR
VERSION:2.0
PRODID:SchoolNow
CALSCALE:GREGORIAN
BEGIN:VEVENT
UID:03a5807e-221f-11ed-b282-0eee6bbfb7a3
DTSTAMP:20220822T133331Z
SUMMARY:Hot Dogs and Lemonade Social
LOCATION:Gonzales Campus
URL;VALUE=URI:https://www.rpcc.edu/calendar/3294790/hot-dogs-and-lemonade-s
 ocial
DTSTART:20220822T160000Z
DTEND:20220822T180000Z
END:VEVENT
END:VCALENDAR
