BEGIN:VCALENDAR
VERSION:2.0
PRODID:SchoolNow
CALSCALE:GREGORIAN
BEGIN:VEVENT
UID:dcf1efbc-221e-11ed-b544-0eee6bbfb7a3
DTSTAMP:20220822T133226Z
SUMMARY:Grab-n-Go breakfast
LOCATION:Gonzales Campus
URL;VALUE=URI:https://www.rpcc.edu/calendar/3294789/grab-n-go-breakfast
DTSTART:20220822T130000Z
DTEND:20220822T150000Z
END:VEVENT
END:VCALENDAR
