BEGIN:VCALENDAR
VERSION:2.0
PRODID:SchoolNow
CALSCALE:GREGORIAN
BEGIN:VEVENT
UID:97fdb164-1a5f-11ed-ae3c-0e5487bc7e73
DTSTAMP:20220812T165539Z
SUMMARY:Circus Themed Welcome Back Event (Food and Games)
LOCATION:St. Charles Campus
URL;VALUE=URI:https://www.rpcc.edu/calendar/3279450/circus-themed-welcome-b
 ack-event-food-and-games
DTSTART;VALUE=DATE:20220823
DTEND;VALUE=DATE:20220824
END:VEVENT
END:VCALENDAR
