BEGIN:VCALENDAR
VERSION:2.0
PRODID:SchoolNow
CALSCALE:GREGORIAN
BEGIN:VEVENT
UID:64b8a21e-1a5f-11ed-be20-0e5487bc7e73
DTSTAMP:20220812T165413Z
SUMMARY:Caring for Nature Day! (Westside's Wellness Week)
LOCATION:Westside Campus
URL;VALUE=URI:https://www.rpcc.edu/calendar/3279447/caring-for-nature-day-w
 estsides-wellness-week
DTSTART:20220826T165300Z
DTEND:20220826T175300Z
END:VEVENT
END:VCALENDAR
