BEGIN:VCALENDAR
VERSION:2.0
PRODID:SchoolNow
CALSCALE:GREGORIAN
BEGIN:VEVENT
UID:4fac2b2a-1a5f-11ed-b41d-0e5487bc7e73
DTSTAMP:20220812T165337Z
SUMMARY:Mental Health Day (Westside Wellness Week!)
LOCATION:Westside Campus
URL;VALUE=URI:https://www.rpcc.edu/calendar/3279446/mental-health-day-wests
 ide-wellness-week
DTSTART;VALUE=DATE:20220825
DTEND;VALUE=DATE:20220826
END:VEVENT
END:VCALENDAR
