BEGIN:VCALENDAR
VERSION:2.0
PRODID:SchoolNow
CALSCALE:GREGORIAN
BEGIN:VEVENT
UID:32a11e96-1a5f-11ed-9000-0e5487bc7e73
DTSTAMP:20220812T165249Z
SUMMARY:Blood Drive
LOCATION:Westside Campus (Plaquemine)
URL;VALUE=URI:https://www.rpcc.edu/calendar/3279445/blood-drive
DTSTART:20220824T140000Z
DTEND:20220824T180000Z
END:VEVENT
END:VCALENDAR
