BEGIN:VCALENDAR
VERSION:2.0
PRODID:SchoolNow
CALSCALE:GREGORIAN
BEGIN:VEVENT
UID:11b30d8e-1a5f-11ed-ac64-0e5487bc7e73
DTSTAMP:20220812T165153Z
SUMMARY:Caring for your Body (Westside's Wellness Week)
LOCATION:Westside Campus
URL;VALUE=URI:https://www.rpcc.edu/calendar/3279444/caring-for-your-body-we
 stsides-wellness-week
DTSTART;VALUE=DATE:20220823
DTEND;VALUE=DATE:20220824
END:VEVENT
END:VCALENDAR
