BEGIN:VCALENDAR
VERSION:2.0
PRODID:SchoolNow
CALSCALE:GREGORIAN
BEGIN:VEVENT
UID:f17cfeda-1a5e-11ed-81b9-0e5487bc7e73
DTSTAMP:20220812T165059Z
SUMMARY:Caring for Education (Westside's Wellness Week)
LOCATION:Westside Campus lobby
URL;VALUE=URI:https://www.rpcc.edu/calendar/3279442/caring-for-education-we
 stsides-wellness-week
DTSTART;VALUE=DATE:20220822
DTEND;VALUE=DATE:20220823
END:VEVENT
END:VCALENDAR
